BEGIN:VCALENDAR
VERSION:2.0
PRODID:-//IAEE - ECPv6.15.20//NONSGML v1.0//EN
CALSCALE:GREGORIAN
METHOD:PUBLISH
X-ORIGINAL-URL:https://www.iaee.com
X-WR-CALDESC:Events for IAEE
REFRESH-INTERVAL;VALUE=DURATION:PT1H
X-Robots-Tag:noindex
X-PUBLISHED-TTL:PT1H
BEGIN:VTIMEZONE
TZID:America/Chicago
BEGIN:DAYLIGHT
TZOFFSETFROM:-0600
TZOFFSETTO:-0500
TZNAME:CDT
DTSTART:20250309T080000
END:DAYLIGHT
BEGIN:STANDARD
TZOFFSETFROM:-0500
TZOFFSETTO:-0600
TZNAME:CST
DTSTART:20251102T070000
END:STANDARD
BEGIN:DAYLIGHT
TZOFFSETFROM:-0600
TZOFFSETTO:-0500
TZNAME:CDT
DTSTART:20260308T080000
END:DAYLIGHT
BEGIN:STANDARD
TZOFFSETFROM:-0500
TZOFFSETTO:-0600
TZNAME:CST
DTSTART:20261101T070000
END:STANDARD
BEGIN:DAYLIGHT
TZOFFSETFROM:-0600
TZOFFSETTO:-0500
TZNAME:CDT
DTSTART:20270314T080000
END:DAYLIGHT
BEGIN:STANDARD
TZOFFSETFROM:-0500
TZOFFSETTO:-0600
TZNAME:CST
DTSTART:20271107T070000
END:STANDARD
END:VTIMEZONE
BEGIN:VTIMEZONE
TZID:America/New_York
BEGIN:DAYLIGHT
TZOFFSETFROM:-0500
TZOFFSETTO:-0400
TZNAME:EDT
DTSTART:20250309T070000
END:DAYLIGHT
BEGIN:STANDARD
TZOFFSETFROM:-0400
TZOFFSETTO:-0500
TZNAME:EST
DTSTART:20251102T060000
END:STANDARD
BEGIN:DAYLIGHT
TZOFFSETFROM:-0500
TZOFFSETTO:-0400
TZNAME:EDT
DTSTART:20260308T070000
END:DAYLIGHT
BEGIN:STANDARD
TZOFFSETFROM:-0400
TZOFFSETTO:-0500
TZNAME:EST
DTSTART:20261101T060000
END:STANDARD
BEGIN:DAYLIGHT
TZOFFSETFROM:-0500
TZOFFSETTO:-0400
TZNAME:EDT
DTSTART:20270314T070000
END:DAYLIGHT
BEGIN:STANDARD
TZOFFSETFROM:-0400
TZOFFSETTO:-0500
TZNAME:EST
DTSTART:20271107T060000
END:STANDARD
END:VTIMEZONE
BEGIN:VEVENT
DTSTART;TZID=America/Chicago:20260331T100000
DTEND;TZID=America/Chicago:20260331T110000
DTSTAMP:20260425T091922
CREATED:20260326T185632Z
LAST-MODIFIED:20260326T185632Z
UID:10000576-1774951200-1774954800@www.iaee.com
SUMMARY:Southwest Chapter: Webinar - What I Wish I Knew Sooner In My Career
DESCRIPTION:Join IAEE Southwest Chapter members\, students\, and young pros for an interactive discussion about building a career in the events industry. \nThis isn’t a typical webinar. There are no formal speakers\, just a community conversation where professionals can give back\, share lessons learned and next gen pros can ask questions and gain real-world insight.
URL:https://www.iaee.com/event/southwest-chapter-webinar-what-i-wish-i-knew-sooner-in-my-career-31mar26/
LOCATION:Zoom\, United States
CATEGORIES:Chapter Events,Events
ATTACH;FMTTYPE=image/webp:https://www.iaee.com/wp-content/uploads/2024/09/iaee-chapter-social-profile-pic_southwest.webp
END:VEVENT
BEGIN:VEVENT
DTSTART;TZID=America/New_York:20260331T163000
DTEND;TZID=America/New_York:20260331T190000
DTSTAMP:20260425T091922
CREATED:20260318T162756Z
LAST-MODIFIED:20260318T162756Z
UID:10000573-1774974600-1774983600@www.iaee.com
SUMMARY:New England Chapter: Networking + Industry Insights in Boston
DESCRIPTION:Join IAEE New England Chapter for an evening of networking\, industry updates\, and mini golf at Swingers Boston! \n(21+) Event/ID is required to attend \nTuesday\, March 31\, 2026 – 4:30PM – 7:00PM ET \nSwingers Boston | 777 Boylston Street\, Boston MA 02116 \nWhat to expect: \n\nSocial hour with light appetizers & a complimentary drink\nIndustry insights on upcoming major Boston events including FIFA World Cup 2026\, Sail Boston 2026\, and the U.S. 250-Year Celebration\nMini golf + networking\n\nGuest speaker\, Howie Choi from Informa on Marketing & Producing Events in a Major Metropolitan Market • Hosted mini golf experience and continued networking \nConnect with industry peers\, hear what’s ahead for Boston’s events landscape\, and enjoy a fun interactive venue. \nSpace is limited!
URL:https://www.iaee.com/event/new-england-chapter-networking-industry-insights-in-boston-31mar26/
LOCATION:Swingers Boston\, 777 Boylston Street\,\, Boston\, MA\, 02116\, United States
CATEGORIES:Chapter Events,Events
ATTACH;FMTTYPE=image/webp:https://www.iaee.com/wp-content/uploads/2024/09/iaee-chapter-social-profile-pic_new-england.webp
END:VEVENT
END:VCALENDAR