BEGIN:VCALENDAR
VERSION:2.0
PRODID:-//IAEE - ECPv6.15.20//NONSGML v1.0//EN
CALSCALE:GREGORIAN
METHOD:PUBLISH
X-ORIGINAL-URL:https://www.iaee.com
X-WR-CALDESC:Events for IAEE
REFRESH-INTERVAL;VALUE=DURATION:PT1H
X-Robots-Tag:noindex
X-PUBLISHED-TTL:PT1H
BEGIN:VTIMEZONE
TZID:America/Chicago
BEGIN:DAYLIGHT
TZOFFSETFROM:-0600
TZOFFSETTO:-0500
TZNAME:CDT
DTSTART:20230312T080000
END:DAYLIGHT
BEGIN:STANDARD
TZOFFSETFROM:-0500
TZOFFSETTO:-0600
TZNAME:CST
DTSTART:20231105T070000
END:STANDARD
BEGIN:DAYLIGHT
TZOFFSETFROM:-0600
TZOFFSETTO:-0500
TZNAME:CDT
DTSTART:20240310T080000
END:DAYLIGHT
BEGIN:STANDARD
TZOFFSETFROM:-0500
TZOFFSETTO:-0600
TZNAME:CST
DTSTART:20241103T070000
END:STANDARD
BEGIN:DAYLIGHT
TZOFFSETFROM:-0600
TZOFFSETTO:-0500
TZNAME:CDT
DTSTART:20250309T080000
END:DAYLIGHT
BEGIN:STANDARD
TZOFFSETFROM:-0500
TZOFFSETTO:-0600
TZNAME:CST
DTSTART:20251102T070000
END:STANDARD
BEGIN:DAYLIGHT
TZOFFSETFROM:-0600
TZOFFSETTO:-0500
TZNAME:CDT
DTSTART:20260308T080000
END:DAYLIGHT
BEGIN:STANDARD
TZOFFSETFROM:-0500
TZOFFSETTO:-0600
TZNAME:CST
DTSTART:20261101T070000
END:STANDARD
BEGIN:DAYLIGHT
TZOFFSETFROM:-0600
TZOFFSETTO:-0500
TZNAME:CDT
DTSTART:20270314T080000
END:DAYLIGHT
BEGIN:STANDARD
TZOFFSETFROM:-0500
TZOFFSETTO:-0600
TZNAME:CST
DTSTART:20271107T070000
END:STANDARD
END:VTIMEZONE
BEGIN:VEVENT
DTSTART;TZID=America/Chicago:20260327T133000
DTEND;TZID=America/Chicago:20260327T140000
DTSTAMP:20260421T145949
CREATED:20260303T155339Z
LAST-MODIFIED:20260317T125353Z
UID:10000560-1774618200-1774620000@www.iaee.com
SUMMARY:IAEE Faculty Community Insights - March 2026
DESCRIPTION:Open to all faculty\, member and non-member for this FREE informal forum for faculty to talk and network on the topic\, “What We’re Seeing in the Field: Translating Event Trends into Teaching” on Friday\, 27 March 2026 at 1:30 PM – 2:00 PM CT / 2:30 PM – 3:00 PM ET / 11:30 AM – 12:00 PM PT. \nThis discussion will focus on trends faculty are observing at events\, exhibitions\, and conferences\, and how those insights are being integrated into classroom content\, assignments\, and student learning experiences. \nIAEE will only have Faculty Community Insights in the spring and in the fall in 2026.
URL:https://www.iaee.com/event/iaee-faculty-community-insights-march-2026-27mar26/
LOCATION:Virtual
CATEGORIES:Events,Faculty Insights,Insights Hours
ATTACH;FMTTYPE=image/png:https://www.iaee.com/wp-content/uploads/2026/03/Faculty-Insights-Hour_Square.png
END:VEVENT
BEGIN:VEVENT
DTSTART;TZID=America/Chicago:20251114T103000
DTEND;TZID=America/Chicago:20251114T110000
DTSTAMP:20260421T145949
CREATED:20251103T220225Z
LAST-MODIFIED:20251103T220225Z
UID:10000456-1763116200-1763118000@www.iaee.com
SUMMARY:Faculty Insights Hour
DESCRIPTION:IAEE Faculty Insights – FREE informal\, open forum for IAEE Faculty Members to talk & network on Friday\, 14 November at 10:30 AM – 11:00 AM CT / 11:30 AM – 12:00 PM ET / 8:30 AM – 9:00 AM PT.
URL:https://www.iaee.com/event/faculty-insights-hour-14nov25/
LOCATION:Virtual
CATEGORIES:Events,Faculty Insights,Insights Hours
ATTACH;FMTTYPE=image/webp:https://www.iaee.com/wp-content/uploads/2025/03/Faculty-Insights_Square.webp
END:VEVENT
BEGIN:VEVENT
DTSTART;TZID=America/Chicago:20251008T083000
DTEND;TZID=America/Chicago:20251008T160000
DTSTAMP:20260421T145949
CREATED:20250910T211624Z
LAST-MODIFIED:20251002T211412Z
UID:10000403-1759912200-1759939200@www.iaee.com
SUMMARY:2025 IAEE Faculty Engagement Experience at IMEX AMERICA
DESCRIPTION:2025 IAEE FACULTY ENGAGEMENT EXPERIENCE AT IMEX AMERICA will be at Mandalay Bay Resort\, Las Vegas\, NV and will have our dedicated events for students and faculty members. All faculty who teaches or work for a college or university with courses in Event and/or Exhibition Management faculty are invited for a day focused on connecting with industry\, sharing research and best practices. \nWednesday\, 8 October: 8:30 am – 4:00 pm PT. The room will be South Pacific D\, North Convention Center \nFaculty Registration – Two Steps \nTo attend the IAEE Faculty Engagement Experience at IMEX America\, an IAEE/IMEX Partnership\, click here to register. Please note spaces are limited and are available on a first-come\, first-serve basis. You will also need to register as faculty member for IMEX America 2025. Register below. \nPartner: ALHI
URL:https://www.iaee.com/event/2025-iaee-faculty-engagement-experience-at-imex-america-08oct25/
LOCATION:Mandalay Bay Resort\, Las Vegas\, NV\, 3950 Las Vegas Blvd S\, Las Vegas\, NV\, 89119\, United States
CATEGORIES:Events,Faculty Insights,IMEX America
ATTACH;FMTTYPE=image/png:https://www.iaee.com/wp-content/uploads/2025/09/Black-Neon-We-Are-Open-Instagram-Post-12.png
END:VEVENT
BEGIN:VEVENT
DTSTART;TZID=America/Chicago:20250919T143000
DTEND;TZID=America/Chicago:20250919T150000
DTSTAMP:20260421T145949
CREATED:20250909T182245Z
LAST-MODIFIED:20250909T182408Z
UID:10000402-1758292200-1758294000@www.iaee.com
SUMMARY:Faculty Insights Hour - September
DESCRIPTION:FREE informal\, open forum for IAEE Faculty Members to talk & network on Friday\, 19 September at 2:30 PM – 3:00 PM CT / 3:30 PM – 4:00 PM ET / 12:30 PM – 1:00 PM PT.
URL:https://www.iaee.com/event/faculty-insights-hour-september-19sept25/
LOCATION:Virtual
CATEGORIES:Events,Faculty Insights,Insights Hours
ATTACH;FMTTYPE=image/webp:https://www.iaee.com/wp-content/uploads/2025/03/Faculty-Insights_Square.webp
END:VEVENT
BEGIN:VEVENT
DTSTART;TZID=America/Chicago:20250507T120000
DTEND;TZID=America/Chicago:20250507T123000
DTSTAMP:20260421T145949
CREATED:20250422T192535Z
LAST-MODIFIED:20250422T193830Z
UID:10000354-1746619200-1746621000@www.iaee.com
SUMMARY:Faculty Insights Hour
DESCRIPTION:Join us for this FREE informal\, open forum for our IAEE Faculty Members and the community to talk and network on Wednesday\, 07 May 2025 at 12:00 PM – 12:30 PM CT / 1:00 PM – 1:30 PM ET / 10:00 AM – 10:30 AM PT. \nThis is more than a meeting; it’s a chance to connect\, share ideas\, and offer insights to enhance our knowledge. Your expertise will enrich our discussions and shape our educational future. \nWe welcome diverse voices and invite you to share your perspectives. Whether you’re experienced or new\, your input is invaluable. Join us for a productive half-hour of dialogue and networking. Let’s make this session rewarding and inspiring. \nLet’s connect and collaborate!
URL:https://www.iaee.com/event/faculty-insights-hour-07may25/
CATEGORIES:Events,Faculty Insights
ATTACH;FMTTYPE=image/webp:https://www.iaee.com/wp-content/uploads/2025/03/Faculty-Insights_Square.webp
END:VEVENT
BEGIN:VEVENT
DTSTART;TZID=America/Chicago:20250331T113000
DTEND;TZID=America/Chicago:20250331T120000
DTSTAMP:20260421T145949
CREATED:20250319T133221Z
LAST-MODIFIED:20250319T133640Z
UID:10000310-1743420600-1743422400@www.iaee.com
SUMMARY:Faculty Insights
DESCRIPTION:Join us for this FREE informal\, open forum for our IAEE Faculty Members to talk and network on Monday\, 31 March at 11:30 AM – 12:00 PM CT / 12:30 PM – 1:00 PM ET / 9:30 AM – 10:00 AM PT This is more than a meeting; it’s a chance to connect\, share ideas\, and offer insights to enhance our knowledge. Your expertise will enrich our discussions and shape our educational future. We welcome diverse voices and invite you to share your perspectives. Whether you’re experienced or new\, your input is invaluable. Join us for a productive half-hour of dialogue and networking!
URL:https://www.iaee.com/event/faculty-insights-31mar25/
LOCATION:Virtual
CATEGORIES:Events,Faculty Insights
ATTACH;FMTTYPE=image/webp:https://www.iaee.com/wp-content/uploads/2025/03/Faculty-Insights_Square.webp
END:VEVENT
BEGIN:VEVENT
DTSTART;TZID=America/Chicago:20241111T133000
DTEND;TZID=America/Chicago:20241111T140000
DTSTAMP:20260421T145949
CREATED:20241104T195700Z
LAST-MODIFIED:20241104T195700Z
UID:10000183-1731331800-1731333600@www.iaee.com
SUMMARY:Faculty Insights Hour
DESCRIPTION:IAEE Faculty Community Insights – November 2024 \nJoin us for this FREE informal\, open forum for our IAEE Faculty Members to talk and network on Monday\, 11 November at 1:30 PM – 2:00 PM CT / 2:30 PM – 3:00 PM ET / 11:30 AM – 12:00 PM PT
URL:https://www.iaee.com/event/faculty-insights-hour-11nov24/
LOCATION:Virtual
CATEGORIES:Events,Faculty Insights,Insights Hours
ATTACH;FMTTYPE=image/webp:https://www.iaee.com/wp-content/uploads/2024/07/Faculty-Insights-Hour.webp
END:VEVENT
BEGIN:VEVENT
DTSTART;TZID=America/Chicago:20240827T130000
DTEND;TZID=America/Chicago:20240827T133000
DTSTAMP:20260421T145949
CREATED:20240718T200214Z
LAST-MODIFIED:20240722T190640Z
UID:10000134-1724763600-1724765400@www.iaee.com
SUMMARY:IAEE Faculty Insights Hour- August 2024
DESCRIPTION:Join us for this FREE informal\, open forum for our IAEE Faculty Members to talk and network on Tuesday\, 27 August at 1:00 PM – 1:30 PM CT / 2:00 PM – 2:30 PM ET / 11:00 AM – 11:30 AM PT
URL:https://www.iaee.com/event/iaee-faculty-insights-hour-august-2024-27aug24/
LOCATION:Zoom\, United States
CATEGORIES:Faculty Insights,Insights Hours
ATTACH;FMTTYPE=image/webp:https://www.iaee.com/wp-content/uploads/2024/07/Faculty-Insights-Hour-1.webp
END:VEVENT
END:VCALENDAR