BEGIN:VCALENDAR
VERSION:2.0
PRODID:-//IAEE - ECPv6.15.20//NONSGML v1.0//EN
CALSCALE:GREGORIAN
METHOD:PUBLISH
X-ORIGINAL-URL:https://www.iaee.com
X-WR-CALDESC:Events for IAEE
REFRESH-INTERVAL;VALUE=DURATION:PT1H
X-Robots-Tag:noindex
X-PUBLISHED-TTL:PT1H
BEGIN:VTIMEZONE
TZID:America/Chicago
BEGIN:DAYLIGHT
TZOFFSETFROM:-0600
TZOFFSETTO:-0500
TZNAME:CDT
DTSTART:20230312T080000
END:DAYLIGHT
BEGIN:STANDARD
TZOFFSETFROM:-0500
TZOFFSETTO:-0600
TZNAME:CST
DTSTART:20231105T070000
END:STANDARD
BEGIN:DAYLIGHT
TZOFFSETFROM:-0600
TZOFFSETTO:-0500
TZNAME:CDT
DTSTART:20240310T080000
END:DAYLIGHT
BEGIN:STANDARD
TZOFFSETFROM:-0500
TZOFFSETTO:-0600
TZNAME:CST
DTSTART:20241103T070000
END:STANDARD
BEGIN:DAYLIGHT
TZOFFSETFROM:-0600
TZOFFSETTO:-0500
TZNAME:CDT
DTSTART:20250309T080000
END:DAYLIGHT
BEGIN:STANDARD
TZOFFSETFROM:-0500
TZOFFSETTO:-0600
TZNAME:CST
DTSTART:20251102T070000
END:STANDARD
END:VTIMEZONE
BEGIN:VEVENT
DTSTART;TZID=America/Chicago:20240807T103000
DTEND;TZID=America/Chicago:20240807T113000
DTSTAMP:20260420T155855
CREATED:20240523T001606Z
LAST-MODIFIED:20240805T154043Z
UID:10000075-1723026600-1723030200@www.iaee.com
SUMMARY:Innovations in Influencer Marketing: Leveraging Influencers to Drive Attendee\, Exhibitor & Sponsor Engagement
DESCRIPTION:Webinar Description: \nIn today’s dynamic event landscape\, forging meaningful connections with attendees\, exhibitors\, and sponsors is key to achieving success. \nJoin us as we explore the transformative potential of influencer marketing\, harnessing the authentic voices that resonate deeply with your audience. Discover innovative strategies employed by leading B2C producers\, and learn how influencers can elevate your event’s impact\, amplify brand visibility\, and craft unforgettable experiences. \nIAEE webinars are free to members and available to non-members for $49. Eligible to earn 1 Clock Hour. \nContent Provided by IAEE Consumer Events Council \n 
URL:https://www.iaee.com/event/innovations-in-influencer-marketing-leveraging-influencers-to-drive-attendee-exhibitor-sponsor-engagement-07aug24/
CATEGORIES:Webinars
ATTACH;FMTTYPE=image/webp:https://www.iaee.com/wp-content/uploads/2024/04/th-iaee-webinars-2.webp
END:VEVENT
END:VCALENDAR