BEGIN:VCALENDAR
VERSION:2.0
PRODID:-//IAEE - ECPv6.15.20//NONSGML v1.0//EN
CALSCALE:GREGORIAN
METHOD:PUBLISH
X-ORIGINAL-URL:https://www.iaee.com
X-WR-CALDESC:Events for IAEE
REFRESH-INTERVAL;VALUE=DURATION:PT1H
X-Robots-Tag:noindex
X-PUBLISHED-TTL:PT1H
BEGIN:VTIMEZONE
TZID:America/Chicago
BEGIN:DAYLIGHT
TZOFFSETFROM:-0600
TZOFFSETTO:-0500
TZNAME:CDT
DTSTART:20230312T080000
END:DAYLIGHT
BEGIN:STANDARD
TZOFFSETFROM:-0500
TZOFFSETTO:-0600
TZNAME:CST
DTSTART:20231105T070000
END:STANDARD
BEGIN:DAYLIGHT
TZOFFSETFROM:-0600
TZOFFSETTO:-0500
TZNAME:CDT
DTSTART:20240310T080000
END:DAYLIGHT
BEGIN:STANDARD
TZOFFSETFROM:-0500
TZOFFSETTO:-0600
TZNAME:CST
DTSTART:20241103T070000
END:STANDARD
BEGIN:DAYLIGHT
TZOFFSETFROM:-0600
TZOFFSETTO:-0500
TZNAME:CDT
DTSTART:20250309T080000
END:DAYLIGHT
BEGIN:STANDARD
TZOFFSETFROM:-0500
TZOFFSETTO:-0600
TZNAME:CST
DTSTART:20251102T070000
END:STANDARD
END:VTIMEZONE
BEGIN:VEVENT
DTSTART;TZID=America/Chicago:20240925T103000
DTEND;TZID=America/Chicago:20240925T113000
DTSTAMP:20260421T133758
CREATED:20240828T210426Z
LAST-MODIFIED:20240829T170054Z
UID:10000153-1727260200-1727263800@www.iaee.com
SUMMARY:CEIR Webinar: Event Sponsored Exhibitor Training Programs – How Is Your B2B Exhibition Helping Exhibitors Succeed?
DESCRIPTION:CEIR Webinar: Event Sponsored Exhibitor Training Programs – How Is Your B2B Exhibition Helping Exhibitors Succeed? \nExhibiting at trade shows is a strategic investment that goes beyond simply purchasing a booth and showing up. Achieving success requires meticulous planning\, targeted promotions\, the right booth staff\, engaging content\, and potentially other investments tailored to the specific goals of exhibiting. Experienced exhibitors often have an edge over newcomers\, but even seasoned professionals need to stay updated on emerging trends to refine their strategies. \nKey Questions: \n\nWhat are organizers doing to help exhibitors maximize their success?\nIs exhibitor training available\, and if so\, when?\nWhat topics are covered in these training programs?\n\nJoin our webinar to discover the latest insights from CEIR Research on organizer-led exhibitor training practices. Hear from leading event organizers who will share their experiences and success stories on how these training initiatives have enhanced exhibitor outcomes. \nCEIR VP of Research Nancy Drapeau\, IPC will share insights on organizer exhibitor training practices. She will be joined by Kevin Archibald\, Associate Director at Informa Markets\, for World of Concrete along with Kim Vinciguerra\, Chief Experience Officer at International Carwash Association (ICA)\, and Ed Nicols\, Director of ISSA. \nCEIR Webinars are available to all. A $25 registration fee goes toward supporting CEIR research. \nPresenters: \nKevin Archibald\, Associate Director\, World of Concrete\, Informa Markets \nNancy Drapeau\, IPC\, Vice President of Research\, Center for Exhibition Industry Research (CEIR) \nEd Nichols\, Director\, ISS \nKim Vinciguerra\, Chief Experience Officer\, International Carwash Association
URL:https://www.iaee.com/event/ceir-webinar-event-sponsored-exhibitor-training-programs-how-is-your-b2b-exhibition-helping-exhibitors-succeed-25sept24/
LOCATION:Virtual
CATEGORIES:Events,Webinars
END:VEVENT
END:VCALENDAR