BEGIN:VCALENDAR
VERSION:2.0
PRODID:-//IAEE - ECPv6.15.20//NONSGML v1.0//EN
CALSCALE:GREGORIAN
METHOD:PUBLISH
X-ORIGINAL-URL:https://www.iaee.com
X-WR-CALDESC:Events for IAEE
REFRESH-INTERVAL;VALUE=DURATION:PT1H
X-Robots-Tag:noindex
X-PUBLISHED-TTL:PT1H
BEGIN:VTIMEZONE
TZID:America/Chicago
BEGIN:DAYLIGHT
TZOFFSETFROM:-0600
TZOFFSETTO:-0500
TZNAME:CDT
DTSTART:20240310T080000
END:DAYLIGHT
BEGIN:STANDARD
TZOFFSETFROM:-0500
TZOFFSETTO:-0600
TZNAME:CST
DTSTART:20241103T070000
END:STANDARD
BEGIN:DAYLIGHT
TZOFFSETFROM:-0600
TZOFFSETTO:-0500
TZNAME:CDT
DTSTART:20250309T080000
END:DAYLIGHT
BEGIN:STANDARD
TZOFFSETFROM:-0500
TZOFFSETTO:-0600
TZNAME:CST
DTSTART:20251102T070000
END:STANDARD
BEGIN:DAYLIGHT
TZOFFSETFROM:-0600
TZOFFSETTO:-0500
TZNAME:CDT
DTSTART:20260308T080000
END:DAYLIGHT
BEGIN:STANDARD
TZOFFSETFROM:-0500
TZOFFSETTO:-0600
TZNAME:CST
DTSTART:20261101T070000
END:STANDARD
END:VTIMEZONE
BEGIN:VEVENT
DTSTART;TZID=America/Chicago:20250918T083000
DTEND;TZID=America/Chicago:20250918T143000
DTSTAMP:20260421T085346
CREATED:20250103T202915Z
LAST-MODIFIED:20250103T202915Z
UID:10000221-1758184200-1758205800@www.iaee.com
SUMMARY:Security\, Risk and Crisis Management - Virtual
DESCRIPTION:Risk management is a continuing process that identifies\, analyzes\, evaluates\, and addresses exposures and monitors’ risk. This involves evaluating the security needs for an event and if a crisis should occur\, having a crisis management team in place to manage it. \nAfter completing this course\, the participant should be able to: \nPART ONE: Security \n\nList security components of site selection\nIdentify the security needs of exhibitions and events\nIdentify essential elements of a request for proposal for a security vendor\nEvaluate security requests for proposal responses to hire a competent security contractor\n\nPART TWO: Risk Management \n\nExplain the principles of risk management as related to insurance coverage\nList types of events and exhibition insurance\nExplain the concept of event cancellation insurance\nGeneralize the importance of requiring certificates of insurance from exhibitors\nExplore the concept of protecting against losses\n\nPART THREE: Crisis Management \n\nDefine a crisis and understand how to prepare for a variety of crises\nDevelop the basics of a crisis management plan\nIdentify various types of threats\nIdentify evaluation procedures for a crisis management plan
URL:https://www.iaee.com/event/security-risk-and-crisis-management-virtual-18sept25/
LOCATION:Virtual
CATEGORIES:CEM,CEM Virtual,Events
ATTACH;FMTTYPE=image/webp:https://www.iaee.com/wp-content/uploads/2024/05/cem-badge-2024_300px_security-risk-and-crisis-management.webp
END:VEVENT
END:VCALENDAR