BEGIN:VCALENDAR
VERSION:2.0
PRODID:-//IAEE - ECPv6.15.20//NONSGML v1.0//EN
CALSCALE:GREGORIAN
METHOD:PUBLISH
X-WR-CALNAME:IAEE
X-ORIGINAL-URL:https://www.iaee.com
X-WR-CALDESC:Events for IAEE
REFRESH-INTERVAL;VALUE=DURATION:PT1H
X-Robots-Tag:noindex
X-PUBLISHED-TTL:PT1H
BEGIN:VTIMEZONE
TZID:America/Chicago
BEGIN:DAYLIGHT
TZOFFSETFROM:-0600
TZOFFSETTO:-0500
TZNAME:CDT
DTSTART:20250309T080000
END:DAYLIGHT
BEGIN:STANDARD
TZOFFSETFROM:-0500
TZOFFSETTO:-0600
TZNAME:CST
DTSTART:20251102T070000
END:STANDARD
BEGIN:DAYLIGHT
TZOFFSETFROM:-0600
TZOFFSETTO:-0500
TZNAME:CDT
DTSTART:20260308T080000
END:DAYLIGHT
BEGIN:STANDARD
TZOFFSETFROM:-0500
TZOFFSETTO:-0600
TZNAME:CST
DTSTART:20261101T070000
END:STANDARD
BEGIN:DAYLIGHT
TZOFFSETFROM:-0600
TZOFFSETTO:-0500
TZNAME:CDT
DTSTART:20270314T080000
END:DAYLIGHT
BEGIN:STANDARD
TZOFFSETFROM:-0500
TZOFFSETTO:-0600
TZNAME:CST
DTSTART:20271107T070000
END:STANDARD
END:VTIMEZONE
BEGIN:VEVENT
DTSTART;TZID=America/Chicago:20260203T090000
DTEND;TZID=America/Chicago:20260203T153000
DTSTAMP:20260424T082654
CREATED:20251006T203620Z
LAST-MODIFIED:20251006T203620Z
UID:10000430-1770109200-1770132600@www.iaee.com
SUMMARY:Selecting Service Contractors - CEM Week
DESCRIPTION:A successful exhibition or event is often produced by the efforts of multiple service providers. A substantial portion of the exhibition or event organizer’s responsibility is to evaluate\, source\, and contract for the services and products needed to produce a successful event. \nAfter completing this course\, the participant should be able to: \n\nExplain the role and responsibilities of the official service contractor (OSC)\nIdentify the purpose and types of specialty contractors\nExplain the role and responsibilities of an exhibitor-appointed contractor (EAC)\nDetermine criteria to be used for selecting service contractors through the Request for Proposal (RFP) process\nDiscuss the importance of identifying who handles what service and how this can impact services or costs\nArticulate how local labor regulations impact events\, including labor rights\n\nThis course is part of CEM Week at the Freeman office in Alexandria\, VA and will be held from 9:00am – 3:30pm. Those staying to take the exam will have an optional 30-minute study period followed by an hour for the exam. You must read the workbook ahead of class. \nInstructor: TBD \nLocation: CEM Week\, Freeman office\, Alexandria\, VA \nFee: $329 for members; $470 for non-members
URL:https://www.iaee.com/event/selecting-service-contractors-cem-week-03feb26/
LOCATION:Freeman Alexandria\, 11 Canal Center Plaza Suite 100\, Alexandria\, VA\, 22314\, United States
CATEGORIES:CEM,CEM On-Location,Events
ATTACH;FMTTYPE=image/webp:https://www.iaee.com/wp-content/uploads/2024/05/cem-badge-2024_300px_selecting-service-contractors.webp
END:VEVENT
BEGIN:VEVENT
DTSTART;TZID=America/Chicago:20260203T104500
DTEND;TZID=America/Chicago:20260203T113000
DTSTAMP:20260424T082654
CREATED:20251008T193844Z
LAST-MODIFIED:20260202T151206Z
UID:10000439-1770115500-1770118200@www.iaee.com
SUMMARY:IAEE Executive Insights Hour - February
DESCRIPTION:This exclusive\, invitation-only virtual insights session is crafted specifically for visionary leaders shaping the future of the exhibitions industry. Delivered quarterly\, at the executive level\, these sessions offer cutting-edge content\, forward-looking perspectives and top-of-mind insights on the most critical and pressing topics impacting leadership and business today. \nTopic: Judgment Under Pressure – Leading When the Stakes Are High \nPresenter: Sam Potolicchio\, Ph.D. \nOnly Executive Level participants will be approved and allowed into the session and must be on a preapproved registration list prior to the session start time. \nOnce approved\, you will receive a calendar invite with a zoom link and log in information for the day of the session. \nFree to IAEE Members
URL:https://www.iaee.com/event/iaee-executive-insights-hour-february-03feb26/
LOCATION:Zoom\, United States
CATEGORIES:Events,Executive Insights Hours,Insights Hours
ATTACH;FMTTYPE=image/png:https://www.iaee.com/wp-content/uploads/2025/10/Executive-Insights_Square.png
END:VEVENT
END:VCALENDAR